BEGIN:VCALENDAR
VERSION:2.0
PRODID:-//ERT//LNF26//DE
VERSION:2.0
BEGIN:VEVENT
UID:station_16_20260324T160000Z
DTSTAMP:20260424T085800Z
URL:https://ert.langenachtderforschung.at/station/16
DTSTART:20260324T160000Z
DTEND:20260424T204500Z
SUMMARY:[LNF26] Wie funktioniert 3D-Druck auf dem Mars?
DESCRIPTION:Bemannte Missionen zum Mars liegen noch in weiter Ferne, aber an Technologien dafür wird schon heute geforscht. Aus vor Ort vorhandenem Material, wie Marsgestein und Schwefel, sollen mit dem 3D-Drucker Habitate für zukünftige Raumfahrende gebaut werden. Diese Technologie hat aber nicht nur Anwendungen im Weltall, sondern kann auch verwendet werden um nachhaltigere Wasserrohre auf der Erde herzustellen!
LOCATION:Viktor Kaplan Strasse 2 TFZ, 2700 Wiener Neustadt
GEO:47.83725022;16.25247860
END:VEVENT
END:VCALENDAR