BEGIN:VCALENDAR
VERSION:2.0
PRODID:-//ERT//LNF26//DE
VERSION:2.0
BEGIN:VEVENT
UID:station_1618_20260324T160000Z
DTSTAMP:20260419T122700Z
URL:https://ert.langenachtderforschung.at/station/1618
DTSTART:20260324T160000Z
DTEND:20260424T210000Z
SUMMARY:[LNF26] Zahnschmerzen – was tun? Arbeiten Sie wie Zahnärzt:innen!
DESCRIPTION:An dieser Station können Sie selbstständig zahnfarbene Füllungen anfertigen. Außerdem erfahren Sie Details über die Wissenschaft von Füllungen und deren Lichthärtung!
LOCATION:Sensengasse 2a, 1090 Wien
GEO:48.21955240;16.35452990
END:VEVENT
END:VCALENDAR