BEGIN:VCALENDAR
VERSION:2.0
PRODID:-//ERT//LNF26//DE
VERSION:2.0
BEGIN:VEVENT
UID:station_1622_20260324T160000Z
DTSTAMP:20260419T122000Z
URL:https://ert.langenachtderforschung.at/station/1622
DTSTART:20260324T160000Z
DTEND:20260424T210000Z
SUMMARY:[LNF26] Visualisierung von Stammzellen auf Zahnimplantaten
DESCRIPTION:In unserer Forschungsstation können Sie unsere Arbeit zur Wechselwirkung zwischen Zahnimplantaten und verschiedenen Zahngeweben erleben. Wir kultivieren Stammzellen auf unterschiedlichen Implantatoberflächen und visualisieren sie anschließend mit speziell entwickelten Fluoreszenzfarbstoffen. Sie können diese Zellen mit einem modernen Fluoreszenzmikroskop beobachten, das wir täglich in unserer Forschung einsetzen.
LOCATION:Sensengasse 2a, 1090 Wien
GEO:48.21955240;16.35452990
END:VEVENT
END:VCALENDAR