BEGIN:VCALENDAR
VERSION:2.0
PRODID:-//ERT//LNF26//DE
VERSION:2.0
BEGIN:VEVENT
UID:station_17_20260324T160000Z
DTSTAMP:20260424T085800Z
URL:https://ert.langenachtderforschung.at/station/17
DTSTART:20260324T160000Z
DTEND:20260424T204500Z
SUMMARY:[LNF26] Wie funktioniert ein Ionentriebwerk?
DESCRIPTION:Ionentriebwerke verwenden elektrische Energie um Treibstoff zu ionisieren und die geladenen Teilchen in einem elektrischen Feld zu beschleunigen. Anhand eines einfachen Models werden das Konzept und die Funktion von Ionentriebewerken vorgestellt.
LOCATION:Viktor Kaplan Strasse 2 TFZ, 2700 Wiener Neustadt
GEO:47.83725022;16.25247860
END:VEVENT
END:VCALENDAR