BEGIN:VCALENDAR
VERSION:2.0
PRODID:-//ERT//LNF26//DE
VERSION:2.0
BEGIN:VEVENT
UID:station_1742_20260324T160000Z
DTSTAMP:20260420T070400Z
URL:https://ert.langenachtderforschung.at/station/1742
DTSTART:20260324T160000Z
DTEND:20260424T210000Z
SUMMARY:[LNF26] Um die Wette mit den Bristlebots − Welche Zahnbürste macht das Rennen?
DESCRIPTION:Im Rennen der Zahnbürsten gibt es keine Kompromisse. Kleine Roboter, die aus Zahnbürsten gefertigt werden, bewegen sich durch Vibrationen selbstständig fort. Bauen, verzieren und staunen. Welcher Bot wird der schnellste sein?
LOCATION:Werk-VI-Straße 46 (Hightech-Campus), Wiener Straße 25 (Gesundheitscampus), 8605 Kapfenberg
GEO:47.45386160;15.33173550
END:VEVENT
END:VCALENDAR