BEGIN:VCALENDAR
VERSION:2.0
PRODID:-//ERT//LNF26//DE
VERSION:2.0
BEGIN:VEVENT
UID:station_1745_20260424T183000Z
DTSTAMP:20260420T052200Z
URL:https://ert.langenachtderforschung.at/station/1745
DTSTART:20260424T183000Z
DTEND:20260424T190000Z
SUMMARY:[LNF26] Wie sieht es in einer Biobank aus?
DESCRIPTION:Bei der Führung durch die Biobank der Med Uni Graz am ZWT zeigen wir, wie Biobanking funktioniert. Unter anderem kann man sehen, welche Proben gesammelt und wie sie im Labor bearbeitet werden. Eindrucksvoll sind auch unsere Lagerräume. Außerdem erfährt man, wie die Proben für den medizinischen Fortschritt eingesetzt werden können. Wir freuen uns, einen Einblick in unsere "Biobanking Welt" zu geben.
LOCATION:Neue Stiftingtalstraße 6 (Aula und Hörsäle im Erdgeschoss), 8010 Graz
GEO:47.08049167;15.46980679
END:VEVENT
END:VCALENDAR