BEGIN:VCALENDAR
VERSION:2.0
PRODID:-//ERT//LNF26//DE
VERSION:2.0
BEGIN:VEVENT
UID:station_1758_20260324T160000Z
DTSTAMP:20260420T070700Z
URL:https://ert.langenachtderforschung.at/station/1758
DTSTART:20260324T160000Z
DTEND:20260424T210000Z
SUMMARY:[LNF26] Schon einmal mit einem Roboter zusammengearbeitet?
DESCRIPTION:Ärmel hochkrempeln und los geht’s: 3D-Druck, Laserschneiden, Extended Reality und Design Thinking. Tauchen Sie ein in die Welt der Industrie von morgen und lernen Sie die Lehr- und Forschungsfabrik für Digitalisierung, das Smart Production Lab, in Kapfenberg kennen. Neugierig? Kommen Sie vorbei, machen Sie sich mit der digitalen Produktion der Zukunft vertraut und lernen Sie die Technologien der Zukunft kennen.
LOCATION:Werk-VI-Straße 46 (Hightech-Campus), Wiener Straße 25 (Gesundheitscampus), 8605 Kapfenberg
GEO:47.45386160;15.33173550
END:VEVENT
END:VCALENDAR