BEGIN:VCALENDAR
VERSION:2.0
PRODID:-//ERT//LNF26//DE
VERSION:2.0
BEGIN:VEVENT
UID:station_1811_20260324T160000Z
DTSTAMP:20260421T135500Z
URL:https://ert.langenachtderforschung.at/station/1811
DTSTART:20260324T160000Z
DTEND:20260424T210000Z
SUMMARY:[LNF26] CO2 – Jenseits von Gut und Böse?
DESCRIPTION:Erleben Sie die Eigenschaften von Kohlendioxid anhand von spannenden Experimenten – von der Versäuerung der Weltmeere über Verbrennungsreaktionen und Trockeneis bis hin zum Entkoffeinieren von Kaffee. Plus: Wer holt sich die „Million“ beim Umwelt-Quiz und beantwortet alle 15 Fragen?
LOCATION:Konrad Lorenz Straße 24, 3430 Tulln
GEO:48.32077312;16.06863138
END:VEVENT
END:VCALENDAR