BEGIN:VCALENDAR
VERSION:2.0
PRODID:-//ERT//LNF26//DE
VERSION:2.0
BEGIN:VEVENT
UID:station_1812_20260324T160000Z
DTSTAMP:20260421T135200Z
URL:https://ert.langenachtderforschung.at/station/1812
DTSTART:20260324T160000Z
DTEND:20260424T210000Z
SUMMARY:[LNF26] Was kann man mit Himbeer- und Maulbeerblättern, Weißdorn- oder Quittenblüten alles machen?  Obstarten zum Kennenlernen auf andere Art
DESCRIPTION:Die Vielfalt an Obst ist größer als viele von uns wissen. Daher wollen wir auf seltene und eher weniger bekannte Obstgehölze und ihre vielfältige Nutzung aufmerksam machen.\nEntdecken Sie mit uns die Farben-, Formen- und Geschmacksvielfalt unterschiedlicher Obstarten und Wissenswertes noch dazu.
LOCATION:Konrad Lorenz Straße 24, 3430 Tulln
GEO:48.32077312;16.06863138
END:VEVENT
END:VCALENDAR