BEGIN:VCALENDAR
VERSION:2.0
PRODID:-//ERT//LNF26//DE
VERSION:2.0
BEGIN:VEVENT
UID:station_1813_20260324T160000Z
DTSTAMP:20260421T135300Z
URL:https://ert.langenachtderforschung.at/station/1813
DTSTART:20260324T160000Z
DTEND:20260424T210000Z
SUMMARY:[LNF26] Wozu ist meine Kacke gut?
DESCRIPTION:Wir gehen mehrmals täglich auf die Toilette, doch nur wenige wissen, was nach dem Spülen mit unseren Hinterlassenschaften geschieht. Auch die Alternativen sind kaum bekannt: Trockentoiletten bzw. Komposttoiletten kennt man vielleicht aus dem öffentlichen Raum – aber wozu sind sie gut? Diese Station macht den Nährstoffkreislauf anschaulich und lädt zum Mitmachen ein.
LOCATION:Konrad Lorenz Straße 24, 3430 Tulln
GEO:48.32077312;16.06863138
END:VEVENT
END:VCALENDAR