BEGIN:VCALENDAR
VERSION:2.0
PRODID:-//ERT//LNF26//DE
VERSION:2.0
BEGIN:VEVENT
UID:station_1845_20260424T171500Z
DTSTAMP:20260421T002500Z
URL:https://ert.langenachtderforschung.at/station/1845
DTSTART:20260424T171500Z
DTEND:20260424T180500Z
SUMMARY:[LNF26] Wie und wo findet Forschung an der USTP statt? - Führungen durch den Campus der University of Applied Sciences St. Pölten
DESCRIPTION:Entdecken Sie bei unserer Hausführung den Campus St. Pölten. Auf dieser Tour haben Sie die Gelegenheit unsere Labore zu besichtigen und die innovativen Lern- und Lehrräume kennenzulernen.
LOCATION:Campus-Platz 1, 3100 St. Pölten
GEO:48.21313058;15.63179719
END:VEVENT
END:VCALENDAR