BEGIN:VCALENDAR
VERSION:2.0
PRODID:-//ERT//LNF26//DE
VERSION:2.0
BEGIN:VEVENT
UID:station_1891_20260324T160000Z
DTSTAMP:20260424T090100Z
URL:https://ert.langenachtderforschung.at/station/1891
DTSTART:20260324T160000Z
DTEND:20260424T180000Z
SUMMARY:[LNF26] Ausflug ins Weltall - finde dein Sternbild!
DESCRIPTION:Bei der Station der Volksschule Gloggnitz kann man direkt ins Weltall durchstarten.\nDie Sternbilder zu den eigenen Sternzeichen werden gesucht und auf Buttons gestanzt, der lateinische Name des Sternzeichens kann in strahlendem Gold dazugeschrieben werden.\nAls Erinnerung an den Ausflug ins Weltall kann ein Sternzeichenarmband geknüpft werden.
LOCATION:Viktor Kaplan Strasse 2 TFZ, 2700 Wiener Neustadt
GEO:47.83725022;16.25247860
END:VEVENT
END:VCALENDAR