BEGIN:VCALENDAR
VERSION:2.0
PRODID:-//ERT//LNF26//DE
VERSION:2.0
BEGIN:VEVENT
UID:station_1896_20260424T193000Z
DTSTAMP:20260421T144200Z
URL:https://ert.langenachtderforschung.at/station/1896
DTSTART:20260424T193000Z
DTEND:20260424T200000Z
SUMMARY:[LNF26] Science on Fire - können Licht und Feuer tanzen?
DESCRIPTION:Was hat Harry Potter mit Chemie und Physik zu tun? Reisen wir gemeinsam nach Hogwarts und finden es heraus? Erlebe eine mitreißende Show, in der Chemie und Physik von Licht und Feuer lebendig werden! Spektakuläre Experimente zeigen leuchtende Reaktionen, tanzende Flammen und magische Farbspiele. Eine eigens entwickelte Musik-Lasershow macht Wissenschaft zum sinnlichen Erlebnis – ein Highlight für Jung und Alt!
LOCATION:Erzabt-Klotz-Straße 1 Unipark, 5020 Salzburg
GEO:47.79478290;13.05415970
END:VEVENT
END:VCALENDAR