BEGIN:VCALENDAR
VERSION:2.0
PRODID:-//ERT//LNF26//DE
VERSION:2.0
BEGIN:VEVENT
UID:station_1906_20260324T160000Z
DTSTAMP:20260421T143900Z
URL:https://ert.langenachtderforschung.at/station/1906
DTSTART:20260324T160000Z
DTEND:20260424T210000Z
SUMMARY:[LNF26] Wie unterstützen Satellitenbilder humanitäre Hilfe?
DESCRIPTION:Wie viele Menschen leben in einem Geflüchtetenlager? Wie groß sind Zerstörungen nach einem Erdbeben? Welche Gebiete sind überflutet? Satellitenbilder liefern schnelle und unverzichtbare Informationen für humanitäre Organisationen. An dieser Station schätzt du Unterkünfte und vergleichst sie mit KI-Ergebnissen, unternimmst Zeitreisen durch humanitäre Krisen oder testest dein Wissen im Memory.
LOCATION:Erzabt-Klotz-Straße 1 Unipark, 5020 Salzburg
GEO:47.79478290;13.05415970
END:VEVENT
END:VCALENDAR