BEGIN:VCALENDAR
VERSION:2.0
PRODID:-//ERT//LNF26//DE
VERSION:2.0
BEGIN:VEVENT
UID:station_1911_20260324T160000Z
DTSTAMP:20260421T144000Z
URL:https://ert.langenachtderforschung.at/station/1911
DTSTART:20260324T160000Z
DTEND:20260424T210000Z
SUMMARY:[LNF26] Tanz mit! Mehr Gesundheit durch Musik und Tanzen?
DESCRIPTION:Hier kannst du unter Anleitung erfahrener Choreograf:innen verschiedene Bewegungsaktivitäten ausprobieren – barrierefrei und ohne Vorkenntnisse. Das Programm fördert Lebensfreude und Kreativität und motiviert zu regelmäßiger Bewegung. Die Aktivitäten werden wissenschaftlich begleitet, unter anderem mit Fragebögen und Herzsensoren. Erlebe, wie gemeinsames Tanzen die Gesundheit und soziale Verbundenheit fördert!
LOCATION:Erzabt-Klotz-Straße 1 Unipark, 5020 Salzburg
GEO:47.79478290;13.05415970
END:VEVENT
END:VCALENDAR