BEGIN:VCALENDAR
VERSION:2.0
PRODID:-//ERT//LNF26//DE
VERSION:2.0
BEGIN:VEVENT
UID:station_1912_20260324T160000Z
DTSTAMP:20260421T140800Z
URL:https://ert.langenachtderforschung.at/station/1912
DTSTART:20260324T160000Z
DTEND:20260424T210000Z
SUMMARY:[LNF26] Moderne Architektur in Salzburg entdecken?
DESCRIPTION:Die Präsentation basiert auf einem studentischen Projekt: Aus drei Seminaren sind eine Ausstellung und ein Architekturführer entstanden, der am 16. April 2026 erscheint. Die Ergebnisse werden anschaulich präsentiert und zeigen, welche Öffentlichkeitswirksamkeit universitäre Arbeit bereits während des Studiums entfalten kann.
LOCATION:Erzabt-Klotz-Straße 1 Unipark, 5020 Salzburg
GEO:47.79478290;13.05415970
END:VEVENT
END:VCALENDAR