BEGIN:VCALENDAR
VERSION:2.0
PRODID:-//ERT//LNF26//DE
VERSION:2.0
BEGIN:VEVENT
UID:station_1913_20260324T160000Z
DTSTAMP:20260421T145600Z
URL:https://ert.langenachtderforschung.at/station/1913
DTSTART:20260324T160000Z
DTEND:20260424T210000Z
SUMMARY:[LNF26] Digital Farming: Was passiert wirklich am Hof?
DESCRIPTION:Wie digital ist ein moderner Bauernhof wirklich? An der interaktiven „Fake-vs-Real“-Wand kannst du eigene Vorstellungen mit dem Alltag landwirtschaftlicher Betriebe vergleichen. Du erfährst, welche digitalen Technologien bereits eingesetzt werden, wo Herausforderungen liegen und warum Kommunikation und Unterstützung im Familienbetrieb zentral sind. So werden Ergebnisse eines Forschungsprojekts anschaulich vermittelt.
LOCATION:Erzabt-Klotz-Straße 1 Unipark, 5020 Salzburg
GEO:47.79478290;13.05415970
END:VEVENT
END:VCALENDAR