BEGIN:VCALENDAR
VERSION:2.0
PRODID:-//ERT//LNF26//DE
VERSION:2.0
BEGIN:VEVENT
UID:station_1914_20260324T160000Z
DTSTAMP:20260421T143900Z
URL:https://ert.langenachtderforschung.at/station/1914
DTSTART:20260324T160000Z
DTEND:20260424T210000Z
SUMMARY:[LNF26] Wie gewinnt man jedes Spiel?
DESCRIPTION:Erlebe Mathematik hautnah! Probiere zwei Klassiker der Spieltheorie selbst aus: Im Gefangenendilemma entscheidest du zwischen Kooperation und Verrat, beim Nim-Spiel zählt cleveres Vorausdenken. Finde heraus, wer den entscheidenden Zug macht, und entdecke spielerisch, wie Strategie, Kommunikation und Mathematik deine Entscheidungen verbessern.
LOCATION:Erzabt-Klotz-Straße 1 Unipark, 5020 Salzburg
GEO:47.79478290;13.05415970
END:VEVENT
END:VCALENDAR