BEGIN:VCALENDAR
VERSION:2.0
PRODID:-//ERT//LNF26//DE
VERSION:2.0
BEGIN:VEVENT
UID:station_1917_20260324T160000Z
DTSTAMP:20260421T131300Z
URL:https://ert.langenachtderforschung.at/station/1917
DTSTART:20260324T160000Z
DTEND:20260424T210000Z
SUMMARY:[LNF26] Kein Ort ohne Geschichte – wie macht das Musische Gymnasium Salzburg Zwangsarbeit sichtbar?
DESCRIPTION:Ausgehend von neuen Forschungen zur Zwangsarbeit in Salzburg wurden auf dem Gelände des Musischen Gymnasiums Standorte ehemaliger Zwangsarbeiter:innenlager identifiziert. An dieser Station verbinden sich wissenschaftliche Inhalte mit künstlerisch-kreativen Performanceelementen wie Miniszenen, Poetry Slam oder Textcollagen. Bringe dich mit Quellenarbeit und Teilnahme an künstlerischen Interventionen aktiv ein!
LOCATION:Erzabt-Klotz-Straße 1 Unipark, 5020 Salzburg
GEO:47.79478290;13.05415970
END:VEVENT
END:VCALENDAR