BEGIN:VCALENDAR
VERSION:2.0
PRODID:-//ERT//LNF26//DE
VERSION:2.0
BEGIN:VEVENT
UID:station_1918_20260324T160000Z
DTSTAMP:20260421T145600Z
URL:https://ert.langenachtderforschung.at/station/1918
DTSTART:20260324T160000Z
DTEND:20260424T210000Z
SUMMARY:[LNF26] Roshinkes un Mandlen -  Was erzählt jiddische Literatur des 20. Jahrhunderts?
DESCRIPTION:An dieser Station kannst du die jiddische Sprache und Literatur anhand von Texten, Biografien und weiteren Materialien kennenlernen. Im Fokus stehen Autor:innen des 20. Jahrhunderts, auch mit Österreichbezug. Ein Poster stellt wichtige Literaten, ihre Texte und Netzwerke vor, die für die jiddische Literatur prägend waren, aber selten behandelt werden. Wer möchte, kann zudem hebräische Buchstaben schreiben lernen.
LOCATION:Erzabt-Klotz-Straße 1 Unipark, 5020 Salzburg
GEO:47.79478290;13.05415970
END:VEVENT
END:VCALENDAR