BEGIN:VCALENDAR
VERSION:2.0
PRODID:-//ERT//LNF26//DE
VERSION:2.0
BEGIN:VEVENT
UID:station_1926_20260324T160000Z
DTSTAMP:20260421T144100Z
URL:https://ert.langenachtderforschung.at/station/1926
DTSTART:20260324T160000Z
DTEND:20260424T210000Z
SUMMARY:[LNF26] Warum ist die Messung der Qualität eines Gesichtsbildes wichtig ?
DESCRIPTION:Die Bestimmung der Gesichtsbildqualität ist entscheidend für das Funktionieren von Gesichtserkennung, etwa bei Passbildern. An dieser Mitmachstation kannst du systematisch testen, wie Grimassen, Brillen oder Kopfbedeckungen die ermittelte Gesichtsqualität beeinflussen. Die Veränderungen werden sichtbar gemacht und die Qualitätswerte mit weiteren Anwendungen der Gesichtsanalyse in Beziehung gesetzt.
LOCATION:Erzabt-Klotz-Straße 1 Unipark, 5020 Salzburg
GEO:47.79478290;13.05415970
END:VEVENT
END:VCALENDAR