BEGIN:VCALENDAR
VERSION:2.0
PRODID:-//ERT//LNF26//DE
VERSION:2.0
BEGIN:VEVENT
UID:station_1930_20260324T160000Z
DTSTAMP:20260421T143900Z
URL:https://ert.langenachtderforschung.at/station/1930
DTSTART:20260324T160000Z
DTEND:20260424T210000Z
SUMMARY:[LNF26] Sind 3D-Drucker für alle da?
DESCRIPTION:Entdecke an dieser Mitmachstation, wie Werkzeuge wie 3D-Drucker, Fräsen oder Stickmaschinen unseren Zugang zu Technik erleichtern – aber auch Barrieren schaffen können. Beim Experimentieren spürst du, wie die Gestaltung von Werkzeugen Teilhabe ermöglicht. Diskutiere mit uns, wie wir Technologien entwickeln, die wirklich allen Menschen offenstehen.
LOCATION:Erzabt-Klotz-Straße 1 Unipark, 5020 Salzburg
GEO:47.79478290;13.05415970
END:VEVENT
END:VCALENDAR