BEGIN:VCALENDAR
VERSION:2.0
PRODID:-//ERT//LNF26//DE
VERSION:2.0
BEGIN:VEVENT
UID:station_1932_20260324T160000Z
DTSTAMP:20260421T143800Z
URL:https://ert.langenachtderforschung.at/station/1932
DTSTART:20260324T160000Z
DTEND:20260424T210000Z
SUMMARY:[LNF26] Wie sieht deine ideale Stadt aus?
DESCRIPTION:Wie muss die Stadt gestaltet sein, damit Kinder und Jugendliche sich wohlfühlen und bewegen können? An dieser Station bist du eingeladen, aktiv mitzudenken: Diskutiere, messe und kartiere den öffentlichen Raum. Als Citizen Scientist trägst du direkt zu aktuellen Forschungsprojekten bei und gestaltest die Stadt von morgen mit.
LOCATION:Erzabt-Klotz-Straße 1 Unipark, 5020 Salzburg
GEO:47.79478290;13.05415970
END:VEVENT
END:VCALENDAR