BEGIN:VCALENDAR
VERSION:2.0
PRODID:-//ERT//LNF26//DE
VERSION:2.0
BEGIN:VEVENT
UID:station_1936_20260324T160000Z
DTSTAMP:20260421T143900Z
URL:https://ert.langenachtderforschung.at/station/1936
DTSTART:20260324T160000Z
DTEND:20260424T210000Z
SUMMARY:[LNF26] Wie lässt sich unsere Welt digital erleben?
DESCRIPTION:An dieser Station erhältst du Einblicke in die Forschungslandschaft der Geoinformatik und kannst innovative GIS-Anwendungen interaktiv erleben. Entdecke digitale Zwillinge zur Anpassung an den Klimawandel und für das Flächenmanagement, reale Räume in virtuellen Spieleumgebungen sowie weitere praxisnahe Beispiele aus Mobilität und Tourismus.
LOCATION:Erzabt-Klotz-Straße 1 Unipark, 5020 Salzburg
GEO:47.79478290;13.05415970
END:VEVENT
END:VCALENDAR