BEGIN:VCALENDAR
VERSION:2.0
PRODID:-//ERT//LNF26//DE
VERSION:2.0
BEGIN:VEVENT
UID:station_1937_20260324T160000Z
DTSTAMP:20260420T003100Z
URL:https://ert.langenachtderforschung.at/station/1937
DTSTART:20260324T160000Z
DTEND:20260424T203000Z
SUMMARY:[LNF26] Was sehen wir im Müll, das du nicht siehst?
DESCRIPTION:Um dem Klimawandel entgegenzutreten, ist es wichtig, den Verbrauch von Rohstoffen und Energie zu reduzieren. Dies gelingt indem Wertstoffe im Müll bestmöglich wiederverwertet werden. Dazu müssen Materialien unabhängig von ihrer Farbe sortenrein getrennt werden. Im DIGITAL-Bildverarbeitungslabor können wir mit verschiedenen Sensoren, die für das menschliche Auge nicht-sichtbaren Materialinformationen, sichtbar machen.
LOCATION:Steyrergasse 17, 8010 Graz
GEO:47.06391605;15.45324902
END:VEVENT
END:VCALENDAR