BEGIN:VCALENDAR
VERSION:2.0
PRODID:-//ERT//LNF26//DE
VERSION:2.0
BEGIN:VEVENT
UID:station_1938_20260324T160000Z
DTSTAMP:20260420T020500Z
URL:https://ert.langenachtderforschung.at/station/1938
DTSTART:20260324T160000Z
DTEND:20260424T210000Z
SUMMARY:[LNF26] Warum vermessen wir den Regen?
DESCRIPTION:Das von unseren Forscher:innen entwickelte Distrometer misst Auf- und Seitenriss sowie Fallgeschwindigkeit jedes einzelnen Regentropfens, der durch die Messfläche (100 cm²) fällt. Diese Daten ermöglichen ganz genaue Aussagen über die Auswirkungen von Regen, Hagel oder Schnee auf zum Beispiel Satelliten- und terrestrische Funkstrecken. Dieses Wissen ist auch für Löscheinsätze aus der Luft bei Waldbränden wichtig.
LOCATION:Steyrergasse 17, 8010 Graz
GEO:47.06391605;15.45324902
END:VEVENT
END:VCALENDAR