BEGIN:VCALENDAR
VERSION:2.0
PRODID:-//ERT//LNF26//DE
VERSION:2.0
BEGIN:VEVENT
UID:station_1939_20260324T160000Z
DTSTAMP:20260421T145800Z
URL:https://ert.langenachtderforschung.at/station/1939
DTSTART:20260324T160000Z
DTEND:20260424T210000Z
SUMMARY:[LNF26] Was hat Sport mit Demokratie zu tun?
DESCRIPTION:Hast du dich schon einmal gefragt, was Sport mit Demokratie verbindet? An dieser Mitmach-Station kannst du es selbst herausfinden und einen Demokratiepass im Sport erwerben: Stelle dein Wissen zu Sport und Demokratie auf die Probe, bewerte Situationen aus dem Sport und dem Sportunterricht aus demokratischer Perspektive und finde heraus, was demokratisches Handeln in Bewegung bedeutet – beim Tischtennisspielen!
LOCATION:Erzabt-Klotz-Straße 1 Unipark, 5020 Salzburg
GEO:47.79478290;13.05415970
END:VEVENT
END:VCALENDAR