BEGIN:VCALENDAR
VERSION:2.0
PRODID:-//ERT//LNF26//DE
VERSION:2.0
BEGIN:VEVENT
UID:station_1940_20260324T160000Z
DTSTAMP:20260420T003100Z
URL:https://ert.langenachtderforschung.at/station/1940
DTSTART:20260324T160000Z
DTEND:20260424T203000Z
SUMMARY:[LNF26] Was hat nachhaltige Schokolade mit Satelliten zu tun?
DESCRIPTION:Wie hängen Schokolade und Satelliten zusammen? Forschende zeigen, wie Kakaoplantagen in Westafrika überwacht werden, damit uns die Schokolade nicht ausgeht. Satellitenbilder, Drohnen und KI erkennen Krankheiten, Ernteverluste und Entwaldung frühzeitig. Besucher:innen entdecken, wie Satelliten „auf Plantagen schauen“ – und warum Daten aus dem All wichtig für nachhaltige Schokolade sind.
LOCATION:Steyrergasse 17, 8010 Graz
GEO:47.06391605;15.45324902
END:VEVENT
END:VCALENDAR