BEGIN:VCALENDAR
VERSION:2.0
PRODID:-//ERT//LNF26//DE
VERSION:2.0
BEGIN:VEVENT
UID:station_2439_20260424T180000Z
DTSTAMP:20260420T194100Z
URL:https://ert.langenachtderforschung.at/station/2439
DTSTART:20260424T180000Z
DTEND:20260424T181500Z
SUMMARY:[LNF26] Museumstour „Tiere der Nacht“
DESCRIPTION:Unsere Kulturvermittler:innen führen Sie durch unsere aktuellen Ausstellungen.
LOCATION:Kulturbezirk 5, 3100 St. Pölten
GEO:48.20026944;15.63139111
END:VEVENT
END:VCALENDAR