BEGIN:VCALENDAR
VERSION:2.0
PRODID:-//ERT//LNF26//DE
VERSION:2.0
BEGIN:VEVENT
UID:station_2515_20260424T194500Z
DTSTAMP:20260420T021100Z
URL:https://ert.langenachtderforschung.at/station/2515
DTSTART:20260424T194500Z
DTEND:20260424T195500Z
SUMMARY:[LNF26] Wer ist KNAPP? - Innovation aus Tradition
DESCRIPTION:Bei dieser Station möchten wir den Besucher:innen einen Einblick geben, woher KNAPP kommt und wie alles begann.
LOCATION:Günter-Knapp-Straße 5-7, 8075 Hart bei Graz
GEO:47.04283818;15.50977921
END:VEVENT
END:VCALENDAR