BEGIN:VCALENDAR
VERSION:2.0
PRODID:-//ERT//LNF26//DE
VERSION:2.0
BEGIN:VEVENT
UID:station_2516_20260324T160000Z
DTSTAMP:20260420T003200Z
URL:https://ert.langenachtderforschung.at/station/2516
DTSTART:20260324T160000Z
DTEND:20260424T210000Z
SUMMARY:[LNF26] Was macht KNAPP? - Technologiepartner für intelligente Wertschöpfungsketten
DESCRIPTION:KNAPP-Mission: Wir sind Technologiepartner für intelligente Wertschöpfungsketten. \nUnsere Welt ist zunehmend vernetzter und digitaler. Das ist kein Geheimnis und auch keine Überraschung. Es bedeutet aber, dass alles und jeder – Menschen, Unternehmen, Technologien – einem stetigen Wandel unterliegen. Es gilt, diesen Wandel zu gestalten.
LOCATION:Günter-Knapp-Straße 5-7, 8075 Hart bei Graz
GEO:47.04283818;15.50977921
END:VEVENT
END:VCALENDAR