BEGIN:VCALENDAR
VERSION:2.0
PRODID:-//ERT//LNF26//DE
VERSION:2.0
BEGIN:VEVENT
UID:station_2517_20260324T160000Z
DTSTAMP:20260420T003100Z
URL:https://ert.langenachtderforschung.at/station/2517
DTSTART:20260324T160000Z
DTEND:20260424T210000Z
SUMMARY:[LNF26] Innovationszentrum - Möchten Sie innovative Technologien hautnah erleben?
DESCRIPTION:Bei der Führung durch unseren Showroom präsentieren wir anhand von innovativen Exponaten, auf verständliche und einfache Weise, unsere neuesten Entwicklungen und die neuesten Trends aus den Bereichen Robotik, Machine Learning und Künstliche Intelligenz.
LOCATION:Günter-Knapp-Straße 5-7, 8075 Hart bei Graz
GEO:47.04283818;15.50977921
END:VEVENT
END:VCALENDAR