BEGIN:VCALENDAR
VERSION:2.0
PRODID:-//ERT//LNF26//DE
VERSION:2.0
BEGIN:VEVENT
UID:station_2590_20260324T160000Z
DTSTAMP:20260419T122400Z
URL:https://ert.langenachtderforschung.at/station/2590
DTSTART:20260324T160000Z
DTEND:20260424T210000Z
SUMMARY:[LNF26] Laborführung - Einblicke in den wissenschaftlichen Alltag
DESCRIPTION:Besuche im Rahmen einer Führung die Labors am Zentrum für Krebsforschung und gewinne einen Einblick in den wissenschaftlichen Alltag.
LOCATION:Borschkegasse 4a Walter-Beck-Platz, 1090 Wien
GEO:48.21815830;16.34618372
END:VEVENT
END:VCALENDAR