BEGIN:VCALENDAR
VERSION:2.0
PRODID:-//ERT//LNF26//DE
VERSION:2.0
BEGIN:VEVENT
UID:station_2597_20260324T160000Z
DTSTAMP:20260422T175300Z
URL:https://ert.langenachtderforschung.at/station/2597
DTSTART:20260324T160000Z
DTEND:20260424T210000Z
SUMMARY:[LNF26] Was ist an der Gelsen-Jagd für Forscher:innen so spannend?
DESCRIPTION:Die AGES und die VetmedUni Wien präsentieren als Partner der Biologischen Station die aktuellen Gelsenmonitoring-Projekte in Österreich. Blicken Sie durchs Mikroskop und erfahren Sie, wie man exotische Asiatische Tigermücken erkennen kann und mit welchen Fallen Forscher:innen Gelsen fangen.
LOCATION:Seevorgelände 1, 7142 Illmitz
GEO:47.76906806;16.76626861
END:VEVENT
END:VCALENDAR