BEGIN:VCALENDAR
VERSION:2.0
PRODID:-//ERT//LNF26//DE
VERSION:2.0
BEGIN:VEVENT
UID:station_2598_20260324T160000Z
DTSTAMP:20260422T175400Z
URL:https://ert.langenachtderforschung.at/station/2598
DTSTART:20260324T160000Z
DTEND:20260424T210000Z
SUMMARY:[LNF26] Kennen Sie die unbekannte nächtliche Welt unserer Motten und Käfer?
DESCRIPTION:Die Arbeitsgemeinschaft Österreichischer Entomologen präsentiert als Partner der Biologischen Station die faszinierende Vielfalt heimischer Abend- und Nachtinsekten. Ein Infotisch zeigt Präparate, Bücher und Zeitschriften. Mit Leuchtgeräten werden bei der Veranstaltung Nachtfalter und Käfer angelockt und Interessantes zu ihrer Biologie und ihrer Bedeutung in der Natur erklärt.
LOCATION:Seevorgelände 1, 7142 Illmitz
GEO:47.76906806;16.76626861
END:VEVENT
END:VCALENDAR