BEGIN:VCALENDAR
VERSION:2.0
PRODID:-//ERT//LNF26//DE
VERSION:2.0
BEGIN:VEVENT
UID:station_2600_20260324T160000Z
DTSTAMP:20260422T175100Z
URL:https://ert.langenachtderforschung.at/station/2600
DTSTART:20260324T160000Z
DTEND:20260424T210000Z
SUMMARY:[LNF26] Wie funktioniert der wissenschaftliche Fischfang am Neusiedler See?
DESCRIPTION:Mitarbeiter der Biologischen Station präsentieren die Methode der Elektrofischerei, welche unter anderem für das fischökologische Monitoring am Neusiedler See eingesetzt wird. Beobachten Sie dabei typische Fischarten des Sees aus nächster Nähe und erfahren Sie dabei Wissenswertes über deren Lebensweise.
LOCATION:Seevorgelände 1, 7142 Illmitz
GEO:47.76906806;16.76626861
END:VEVENT
END:VCALENDAR