BEGIN:VCALENDAR
VERSION:2.0
PRODID:-//ERT//LNF26//DE
VERSION:2.0
BEGIN:VEVENT
UID:station_2626_20260324T160000Z
DTSTAMP:20260420T020500Z
URL:https://ert.langenachtderforschung.at/station/2626
DTSTART:20260324T160000Z
DTEND:20260424T210000Z
SUMMARY:[LNF26] Wie möchten Sie Ihre Zukunft planen und bauen?
DESCRIPTION:Bei dieser Station dreht sich alles um Architektur und Ingenieurskunst. Wir lassen Architektur entstehen und entwerfen ein interaktives Geländemodell, bauen eine Leonardo-Brücke und begeben uns virtuell in die Vergangenheit (VR).
LOCATION:Eggenberger Allee 11+13, Eckertstraße 7a+30i, 8020 Graz
GEO:47.06940355;15.40670826
END:VEVENT
END:VCALENDAR