BEGIN:VCALENDAR
VERSION:2.0
PRODID:-//ERT//LNF26//DE
VERSION:2.0
BEGIN:VEVENT
UID:station_2643_20260324T160000Z
DTSTAMP:20260420T033700Z
URL:https://ert.langenachtderforschung.at/station/2643
DTSTART:20260324T160000Z
DTEND:20260424T210000Z
SUMMARY:[LNF26] Wie kann man mit 3D Druckern  das menschliche Gehirn „aktivieren“?
DESCRIPTION:Mit dem 3D-Drucker Rätsel lösen. Die kurzen, knackigen Aufgaben sollen das Gehirn spielerisch „aktivieren".
LOCATION:Eggenberger Allee 11+13, Eckertstraße 7a+30i, 8020 Graz
GEO:47.06940355;15.40670826
END:VEVENT
END:VCALENDAR