BEGIN:VCALENDAR
VERSION:2.0
PRODID:-//ERT//LNF26//DE
VERSION:2.0
BEGIN:VEVENT
UID:station_2668_20260324T160000Z
DTSTAMP:20260419T121100Z
URL:https://ert.langenachtderforschung.at/station/2668
DTSTART:20260324T160000Z
DTEND:20260424T210000Z
SUMMARY:[LNF26] Tele-Notarzt: Leben retten mit Ultraschall
DESCRIPTION:Besucher:innen jeden Alters können selbst aktiv werden und mithilfe von Ultraschall versteckte Gegenstände aufspüren. An unserer Station lässt sich auf spielerische Weise erleben, wie Ärzt:innen im Notfall wichtige Hinweise oft in Sekundenschnelle erkennen können müssen, um rasch die richtige Entscheidung treffen zu können.
LOCATION:Währinger Gürtel  18-20, 1090 Wien
GEO:48.21931740;16.34358580
END:VEVENT
END:VCALENDAR