BEGIN:VCALENDAR
VERSION:2.0
PRODID:-//ERT//LNF26//DE
VERSION:2.0
BEGIN:VEVENT
UID:station_2670_20260324T160000Z
DTSTAMP:20260419T122100Z
URL:https://ert.langenachtderforschung.at/station/2670
DTSTART:20260324T160000Z
DTEND:20260424T210000Z
SUMMARY:[LNF26] Wenn jeder Handgriff zählt: Versorgung von Notfällen
DESCRIPTION:Die Vorbereitung von Medizinstudierenden auf Notfälle ist den Vienna Premedics ein großes Anliegen. Durch Simulationsbeispiele zeigen sie den Besucher:innen die Versorgung von Patient:innen am Einsatzort und im Rettungswagen. Dazwischen werden die Szenarien angehalten, um die nächsten Schritte mitraten zu können. Für besonders Mutige gibt es die Möglichkeit, als Patient:in oder Teil des Teams mitzumachen.
LOCATION:Währinger Gürtel  18-20, 1090 Wien
GEO:48.21931740;16.34358580
END:VEVENT
END:VCALENDAR