BEGIN:VCALENDAR
VERSION:2.0
PRODID:-//ERT//LNF26//DE
VERSION:2.0
BEGIN:VEVENT
UID:station_2672_20260324T160000Z
DTSTAMP:20260419T121300Z
URL:https://ert.langenachtderforschung.at/station/2672
DTSTART:20260324T160000Z
DTEND:20260424T210000Z
SUMMARY:[LNF26] Wie wird Wien HERZsicher? Herzstillstand: Rufen – Drücken - Schocken
DESCRIPTION:Die MedUni Wien kämpft gemeinsam mit dem Verein PULS gegen den plötzlichen Herztod. Hier können Sie Ihre Erste-Hilfe-Kenntnisse auffrischen und trainieren, damit Sie im Ernstfall sicher und fit sind! Denn die Zeit bis zum Eintreffen professioneller Hilfe kann zwischen Leben und Tod entscheiden.
LOCATION:Währinger Gürtel  18-20, 1090 Wien
GEO:48.21931740;16.34358580
END:VEVENT
END:VCALENDAR