BEGIN:VCALENDAR
VERSION:2.0
PRODID:-//ERT//LNF26//DE
VERSION:2.0
BEGIN:VEVENT
UID:station_2684_20260324T160000Z
DTSTAMP:20260420T020400Z
URL:https://ert.langenachtderforschung.at/station/2684
DTSTART:20260324T160000Z
DTEND:20260424T210000Z
SUMMARY:[LNF26] Wer ist die beste Fußballerin oder der beste Fußballer?
DESCRIPTION:Das sportwissenschaftliche Labor stellt ein Testsystem vor, das zur Diagnose des Kurzpassspiels von Fußballer:innen entwickelt wurde. Es kann von Klein und Groß ausprobiert werden. Weiter zeigen wir euch, wie das Positionstracking-System Catapult funktioniert und im Fußball eingesetzt wird.
LOCATION:Eggenberger Allee 11+13, Eckertstraße 7a+30i, 8020 Graz
GEO:47.06940355;15.40670826
END:VEVENT
END:VCALENDAR