BEGIN:VCALENDAR
VERSION:2.0
PRODID:-//ERT//LNF26//DE
VERSION:2.0
BEGIN:VEVENT
UID:station_2696_20260324T160000Z
DTSTAMP:20260420T003000Z
URL:https://ert.langenachtderforschung.at/station/2696
DTSTART:20260324T160000Z
DTEND:20260424T210000Z
SUMMARY:[LNF26] Was kann alles Forschung der Sozialen Arbeit sein?
DESCRIPTION:Gemeinsam gehen wir Forschungsfragen nach, die am Institut für Soziale Arbeit an der FH JOANNEUM untersucht werden. Welche Ressourcen kann ich in meinem Alltag nutzen? Wie stelle ich mir eine ideale Welt vor? Wie können Personas dazu beitragen, Diversität im Unterricht zu berücksichtigen?
LOCATION:Eggenberger Allee 11+13, Eckertstraße 7a+30i, 8020 Graz
GEO:47.06940355;15.40670826
END:VEVENT
END:VCALENDAR