BEGIN:VCALENDAR
VERSION:2.0
PRODID:-//ERT//LNF26//DE
VERSION:2.0
BEGIN:VEVENT
UID:station_2782_20260324T160000Z
DTSTAMP:20260423T142300Z
URL:https://ert.langenachtderforschung.at/station/2782
DTSTART:20260324T160000Z
DTEND:20260424T210000Z
SUMMARY:[LNF26] Von Simulation bis Elektrostimulation – wie kann man mit Elektronik hören?
DESCRIPTION:Unsere Station zeigt, wie sich Hörverlust anhören kann, wie Elektrotechnik Hörwahrnehmung simuliert, Elektrostimulation im Cochlea-Implantat sichtbar gemacht werden kann und akustische Phänomene wie Knochenleitung erlebbar werden. Zudem demonstrieren wir, wie man mit einer modulierten Teslaspule „Elektrizität hören“ kann und zeigen Experimente zu Wirbelströmen und drahtloser Energieübertragung.
LOCATION:Technikerstr. 13b/13a, 6020 Innsbruck
GEO:47.26524660;11.34252670
END:VEVENT
END:VCALENDAR