BEGIN:VCALENDAR
VERSION:2.0
PRODID:-//ERT//LNF26//DE
VERSION:2.0
BEGIN:VEVENT
UID:station_2812_20260324T160000Z
DTSTAMP:20260419T130700Z
URL:https://ert.langenachtderforschung.at/station/2812
DTSTART:20260324T160000Z
DTEND:20260424T210000Z
SUMMARY:[LNF26] Bewerbungscoaching &amp; Erstellung professioneller Bewerbungsfotos
DESCRIPTION:In den AK Bewerbungscoachings erfahren Besucher:innen die wichtigsten Informationen und Tipps zu allen Aspekten des Bewerbungsprozesses. Teilnehmende erhalten professionelle Bewerbungsfotos und können bei Übungen für eine erfolgreiche Selbstpräsentation mitmachen.
LOCATION:Innrain 52, 6020 Innsbruck
GEO:47.26306350;11.38418912
END:VEVENT
END:VCALENDAR