BEGIN:VCALENDAR
VERSION:2.0
PRODID:-//ERT//LNF26//DE
VERSION:2.0
BEGIN:VEVENT
UID:station_2813_20260324T160000Z
DTSTAMP:20260419T130500Z
URL:https://ert.langenachtderforschung.at/station/2813
DTSTART:20260324T160000Z
DTEND:20260424T210000Z
SUMMARY:[LNF26] Geben, nehmen, spielen, streiten, wetteifern und/oder lieben – in welchen Beziehungen stehe ich zu anderen Menschen?
DESCRIPTION:Was passiert, wenn wir anderen begegnen? In welchen Beziehungen stehen wir zu Familie, Freund:innen, Mitschüler:innen, Lehrer:innen oder Kolleg:innen? Der Soziologe Georg Simmel zeigte: Unser Miteinander folgt Mustern – wir geben und nehmen, kooperieren, streiten, lieben, konkurrieren. Hier erkunden Sie mit Ihren Kindern spielerisch Beziehungen und entdecken, was sie bereichernd, verbindend oder überraschend macht.
LOCATION:Innrain 52, 6020 Innsbruck
GEO:47.26306350;11.38418912
END:VEVENT
END:VCALENDAR