BEGIN:VCALENDAR
VERSION:2.0
PRODID:-//ERT//LNF26//DE
VERSION:2.0
BEGIN:VEVENT
UID:station_2853_20260324T160000Z
DTSTAMP:20260423T030500Z
URL:https://ert.langenachtderforschung.at/station/2853
DTSTART:20260324T160000Z
DTEND:20260424T200000Z
SUMMARY:[LNF26] Wie kann man LEGO Mindstorms-Roboter bauen und programmieren?
DESCRIPTION:Roboter können heutzutage bereits fast überall eingesetzt werden: In der Industrie, in der Alten- und Krankenpflege, als Kellner:in im Kaffeehaus. Mit ihren großen Kolleg:innen können wir leider nicht mithalten, doch kleine Kopien von ihnen gibt es auch bei uns zu bestaunen und selbst zu programmieren. Mithilfe einer grafikbasierten Software können Besucher:innen einfache Programme selbst erstellen und testen.
LOCATION:Michaelerplatz 6, 4400 Steyr
GEO:48.04347895;14.42207089
END:VEVENT
END:VCALENDAR