BEGIN:VCALENDAR
VERSION:2.0
PRODID:-//ERT//LNF26//DE
VERSION:2.0
BEGIN:VEVENT
UID:station_2855_20260324T160000Z
DTSTAMP:20260423T030100Z
URL:https://ert.langenachtderforschung.at/station/2855
DTSTART:20260324T160000Z
DTEND:20260424T200000Z
SUMMARY:[LNF26] Lust auf Wissenschaft?
DESCRIPTION:Wissen schaffen und teilen – das ist unser Auftrag. Bei der LNF geben wir Einblick in die wissenschaftliche Arbeit am BRG Steyr: ausgewählte abschließende Arbeiten, innovative Projekte aus dem Schulalltag und spannende Experimente. Erleben Sie, wie junge Forscher:innen denken, tüfteln und präsentieren und erfahren Sie von einer Teilnehmerin, wie es sich anfühlt, als „Astronaut for a day“ Schwerelosigkeit zu erleben.
LOCATION:Michaelerplatz 6, 4400 Steyr
GEO:48.04347895;14.42207089
END:VEVENT
END:VCALENDAR