BEGIN:VCALENDAR
VERSION:2.0
PRODID:-//ERT//LNF26//DE
VERSION:2.0
BEGIN:VEVENT
UID:station_2856_20260324T160000Z
DTSTAMP:20260423T031600Z
URL:https://ert.langenachtderforschung.at/station/2856
DTSTART:20260324T160000Z
DTEND:20260424T200000Z
SUMMARY:[LNF26] Wie wird ein Podcast produziert?
DESCRIPTION:Das Internet stellt eine Bedrohung für die traditionellen Medien dar, doch jede Krise bietet auch Chancen: TV-Stationen stellen Mediatheken zur Verfügung, Musikstreaming schafft neue Absatzmärkte und Zeitungen erschließen neue Zielgruppen mithilfe von Podcasts. Dieses Medium möchten wir vorstellen. An unserer Station haben Besucher:innen die Chance, Interviews zu führen und dabei ihren eigenen Podcast zu erstellen.
LOCATION:Michaelerplatz 6, 4400 Steyr
GEO:48.04347895;14.42207089
END:VEVENT
END:VCALENDAR