BEGIN:VCALENDAR
VERSION:2.0
PRODID:-//ERT//LNF26//DE
VERSION:2.0
BEGIN:VEVENT
UID:station_2858_20260324T160000Z
DTSTAMP:20260423T025600Z
URL:https://ert.langenachtderforschung.at/station/2858
DTSTART:20260324T160000Z
DTEND:20260424T200000Z
SUMMARY:[LNF26] Lust auf Experimente?
DESCRIPTION:Um den Regeln und Gesetzmäßigkeiten, nach denen unsere Welt funktioniert, ein wenig auf die Spur zu kommen, haben wir verschiedene Stationen aufgebaut, an denen spannende Experimente gezeigt werden oder sogar selbst durchgeführt werden können. Hierbei soll natürlich nicht nur das naturwissenschaftliche Denken selbst, sondern auch der Spaß am Ausprobieren nicht zu kurz kommen.
LOCATION:Michaelerplatz 6, 4400 Steyr
GEO:48.04347895;14.42207089
END:VEVENT
END:VCALENDAR